BEGIN:VCALENDAR
VERSION:2.0
PRODID:-//hacksw/handcal//NONSGML v1.0//EN
CALSCALE:GREGORIAN
BEGIN:VEVENT
LOCATION:
DESCRIPTION:
DTSTART:20191204T000000Z
DTEND:20191204T000000Z
SUMMARY:Scholastic Bowl @Crete-Monee HS
URL;VALUE=URI:https://bloomhs.org/event/scholastic-bowl-crete-monee-hs/
DTSTAMP:20260424T051012Z
UID:69eafb34433d6
END:VEVENT
END:VCALENDAR