BEGIN:VCALENDAR
VERSION:2.0
PRODID:-//hacksw/handcal//NONSGML v1.0//EN
CALSCALE:GREGORIAN
BEGIN:VEVENT
LOCATION:
DESCRIPTION:
DTSTART:20260525T000000Z
DTEND:20260525T000000Z
SUMMARY:Memorial Day - No School
URL;VALUE=URI:https://bloomhs.org/event/memorial-day-no-school-6/
DTSTAMP:20260421T212450Z
UID:69e7eb22266a2
END:VEVENT
END:VCALENDAR