BEGIN:VCALENDAR
VERSION:2.0
PRODID:-//hacksw/handcal//NONSGML v1.0//EN
CALSCALE:GREGORIAN
BEGIN:VEVENT
LOCATION:
DESCRIPTION:
DTSTART:20260429T000000Z
DTEND:20260429T000000Z
SUMMARY:Late Start - 9:50 AM
URL;VALUE=URI:https://bloomhs.org/event/late-start-950-am-25/
DTSTAMP:20260421T213645Z
UID:69e7eded56ccd
END:VEVENT
END:VCALENDAR