BEGIN:VCALENDAR
VERSION:2.0
PRODID:-//hacksw/handcal//NONSGML v1.0//EN
CALSCALE:GREGORIAN
BEGIN:VEVENT
LOCATION:
DESCRIPTION:
DTSTART:20260422T000000Z
DTEND:20260422T000000Z
SUMMARY:Late Start - 9:50 AM
URL;VALUE=URI:https://bloomhs.org/event/late-start-950-am-24/
DTSTAMP:20260421T213731Z
UID:69e7ee1b61945
END:VEVENT
END:VCALENDAR