BEGIN:VCALENDAR
VERSION:2.0
PRODID:-//hacksw/handcal//NONSGML v1.0//EN
CALSCALE:GREGORIAN
BEGIN:VEVENT
LOCATION:
DESCRIPTION:
DTSTART:20190911T000000Z
DTEND:20190911T000000Z
SUMMARY:Financial Aide Night 6 pm
URL;VALUE=URI:https://bloomhs.org/event/financial-aide-night-6-pm/
DTSTAMP:20260426T021209Z
UID:69ed7479deab5
END:VEVENT
END:VCALENDAR