BEGIN:VCALENDAR
VERSION:2.0
PRODID:-//hacksw/handcal//NONSGML v1.0//EN
CALSCALE:GREGORIAN
BEGIN:VEVENT
LOCATION:
DESCRIPTION:
DTSTART:20230522T000000Z
DTEND:20230522T000000Z
SUMMARY:Final Exams/Early Release (11:05am)
URL;VALUE=URI:https://bloomhs.org/event/final-exams-early-release-1105am-10/
DTSTAMP:20260425T202004Z
UID:69ed21f431860
END:VEVENT
END:VCALENDAR