BEGIN:VCALENDAR
VERSION:2.0
PRODID:-//hacksw/handcal//NONSGML v1.0//EN
CALSCALE:GREGORIAN
BEGIN:VEVENT
LOCATION:
DESCRIPTION:
DTSTART:20260527T131000Z
DTEND:20260527T160500Z
SUMMARY:Final Exam Early Release 
URL;VALUE=URI:https://bloomhs.org/event/final-exam-early-release-8/
DTSTAMP:20260421T212255Z
UID:69e7eaafd85d4
END:VEVENT
END:VCALENDAR