BEGIN:VCALENDAR
VERSION:2.0
PRODID:-//hacksw/handcal//NONSGML v1.0//EN
CALSCALE:GREGORIAN
BEGIN:VEVENT
LOCATION:
DESCRIPTION:
DTSTART:20260526T131000Z
DTEND:20260526T160500Z
SUMMARY:Final Exam Early Release
URL;VALUE=URI:https://bloomhs.org/event/final-exam-early-release-7/
DTSTAMP:20260421T212512Z
UID:69e7eb383bda1
END:VEVENT
END:VCALENDAR