BEGIN:VCALENDAR
VERSION:2.0
PRODID:-//hacksw/handcal//NONSGML v1.0//EN
CALSCALE:GREGORIAN
BEGIN:VEVENT
LOCATION:
DESCRIPTION:
DTSTART:20260524T000000Z
DTEND:20260524T000000Z
SUMMARY:Commencement
URL;VALUE=URI:https://bloomhs.org/event/commencement-5/
DTSTAMP:20260421T213323Z
UID:69e7ed236602e
END:VEVENT
END:VCALENDAR