BEGIN:VCALENDAR
VERSION:2.0
PRODID:-//hacksw/handcal//NONSGML v1.0//EN
CALSCALE:GREGORIAN
BEGIN:VEVENT
LOCATION:
DESCRIPTION:
DTSTART:20210726T200000Z
DTEND:20210727T000000Z
SUMMARY:Bloom In Person Registration - Mcann Gym
URL;VALUE=URI:https://bloomhs.org/event/bloom-in-person-registration-mcann-gym-3/
DTSTAMP:20260422T162819Z
UID:69e8f723c8af6
END:VEVENT
END:VCALENDAR