BEGIN:VCALENDAR
VERSION:2.0
PRODID:-//hacksw/handcal//NONSGML v1.0//EN
CALSCALE:GREGORIAN
BEGIN:VEVENT
LOCATION:
DESCRIPTION:
DTSTART:20260515T000000Z
DTEND:20260515T000000Z
SUMMARY:AP Exams
URL;VALUE=URI:https://bloomhs.org/event/ap-exams-40/
DTSTAMP:20260421T212631Z
UID:69e7eb870e1ec
END:VEVENT
END:VCALENDAR