BEGIN:VCALENDAR
VERSION:2.0
PRODID:-//hacksw/handcal//NONSGML v1.0//EN
CALSCALE:GREGORIAN
BEGIN:VEVENT
LOCATION:
DESCRIPTION:
DTSTART:20260512T000000Z
DTEND:20260512T000000Z
SUMMARY:AP Exams
URL;VALUE=URI:https://bloomhs.org/event/ap-exams-37/
DTSTAMP:20260421T213557Z
UID:69e7edbdbfaae
END:VEVENT
END:VCALENDAR