BEGIN:VCALENDAR
VERSION:2.0
PRODID:-//hacksw/handcal//NONSGML v1.0//EN
CALSCALE:GREGORIAN
BEGIN:VEVENT
LOCATION:
DESCRIPTION:
DTSTART:20260511T000000Z
DTEND:20260511T000000Z
SUMMARY:AP Exams
URL;VALUE=URI:https://bloomhs.org/event/ap-exams-36/
DTSTAMP:20260421T213639Z
UID:69e7ede729cff
END:VEVENT
END:VCALENDAR