BEGIN:VCALENDAR
VERSION:2.0
PRODID:-//hacksw/handcal//NONSGML v1.0//EN
CALSCALE:GREGORIAN
BEGIN:VEVENT
LOCATION:
DESCRIPTION:
DTSTART:20260508T000000Z
DTEND:20260508T000000Z
SUMMARY:AP Exams
URL;VALUE=URI:https://bloomhs.org/event/ap-exams-35/
DTSTAMP:20260421T213558Z
UID:69e7edbe25a58
END:VEVENT
END:VCALENDAR