BEGIN:VCALENDAR
VERSION:2.0
PRODID:-//hacksw/handcal//NONSGML v1.0//EN
CALSCALE:GREGORIAN
BEGIN:VEVENT
LOCATION:
DESCRIPTION:
DTSTART:20260504T000000Z
DTEND:20260504T000000Z
SUMMARY:AP Exams
URL;VALUE=URI:https://bloomhs.org/event/ap-exams-31/
DTSTAMP:20260421T213645Z
UID:69e7eded9d698
END:VEVENT
END:VCALENDAR