BEGIN:VCALENDAR
VERSION:2.0
PRODID:-//hacksw/handcal//NONSGML v1.0//EN
CALSCALE:GREGORIAN
BEGIN:VEVENT
LOCATION:
DESCRIPTION:
DTSTART:20191203T000000Z
DTEND:20191203T000000Z
SUMMARY:2019 Giving Tuesday - Education Foundation 
URL;VALUE=URI:https://bloomhs.org/event/2019-giving-tuesday-education-foundation-2/
DTSTAMP:20260425T224232Z
UID:69ed4358831c9
END:VEVENT
END:VCALENDAR